BEGIN:VCALENDAR
VERSION:2.0
PRODID:-//Schule Mastbrook Rendsburg - ECPv6.15.20//NONSGML v1.0//EN
CALSCALE:GREGORIAN
METHOD:PUBLISH
X-ORIGINAL-URL:https://schule-mastbrook-rendsburg.de
X-WR-CALDESC:Veranstaltungen für Schule Mastbrook Rendsburg
REFRESH-INTERVAL;VALUE=DURATION:PT1H
X-Robots-Tag:noindex
X-PUBLISHED-TTL:PT1H
BEGIN:VTIMEZONE
TZID:UTC
BEGIN:STANDARD
TZOFFSETFROM:+0000
TZOFFSETTO:+0000
TZNAME:UTC
DTSTART:20250101T000000
END:STANDARD
END:VTIMEZONE
BEGIN:VEVENT
DTSTART;TZID=UTC:20260325T073000
DTEND;TZID=UTC:20260325T123000
DTSTAMP:20260425T035312
CREATED:20250907T044527Z
LAST-MODIFIED:20250907T044529Z
UID:3843-1774423800-1774441800@schule-mastbrook-rendsburg.de
SUMMARY:Ende der Leseprojekttage / Bücherflohmarkt
DESCRIPTION:Die Leseprojekttage enden traditionell mit dem Bücherflohmarkt in der letzten Stunde.
URL:https://schule-mastbrook-rendsburg.de/event/ende-der-leseprojekttage-buecherflohmarkt/
END:VEVENT
END:VCALENDAR